BEGIN:VCALENDAR
VERSION:2.0
PRODID:-//PMK Kleve - ECPv4.7.1//NONSGML v1.0//EN
CALSCALE:GREGORIAN
METHOD:PUBLISH
X-WR-CALNAME:PMK Kleve
X-ORIGINAL-URL:https://pmk-kleve.de
X-WR-CALDESC:Veranstaltungen für PMK Kleve
BEGIN:VEVENT
DTSTART;VALUE=DATE:20230527
DTEND;VALUE=DATE:20230528
DTSTAMP:20260422T183141
CREATED:20230414T134044Z
LAST-MODIFIED:20230520T220649Z
UID:5397-1685145600-1685231999@pmk-kleve.de
SUMMARY:Pielgrzymka dzieci pierwszokomunijnych do Banneux
DESCRIPTION:27 maja odbędzie się całodniowa autokarowa pielgrzymka dzieci I Komunijnych z PMK w Niemczech do Sanktuarium MB ubogich w Banneux\, w Belgii. Wyjazd o godz. 7.00 z przystanku przy dworcu kolejowym w Kleve. \nZapisy u s. Justyny. \n
URL:https://pmk-kleve.de/event/pielgrzymka-dzieci-pierwszokomunijnych-do-banneux
CATEGORIES:Wydarzenia na strone główną
END:VEVENT
END:VCALENDAR