BEGIN:VCALENDAR
VERSION:2.0
PRODID:-//PMK Kleve - ECPv4.7.1//NONSGML v1.0//EN
CALSCALE:GREGORIAN
METHOD:PUBLISH
X-WR-CALNAME:PMK Kleve
X-ORIGINAL-URL:https://pmk-kleve.de
X-WR-CALDESC:Veranstaltungen für PMK Kleve
BEGIN:VEVENT
DTSTART;VALUE=DATE:20221001
DTEND;VALUE=DATE:20221002
DTSTAMP:20260423T210500
CREATED:20220902T104709Z
LAST-MODIFIED:20220923T132511Z
UID:4287-1664582400-1664668799@pmk-kleve.de
SUMMARY:Pielgrzymka Młodych do Telgte
DESCRIPTION: \n
URL:https://pmk-kleve.de/event/pielgrzymka-mlodych-do-telgte
CATEGORIES:Wydarzenia na strone główną
END:VEVENT
END:VCALENDAR