BEGIN:VCALENDAR
VERSION:2.0
PRODID:-//PMK Kleve - ECPv4.7.1//NONSGML v1.0//EN
CALSCALE:GREGORIAN
METHOD:PUBLISH
X-WR-CALNAME:PMK Kleve
X-ORIGINAL-URL:https://pmk-kleve.de
X-WR-CALDESC:Veranstaltungen für PMK Kleve
BEGIN:VEVENT
DTSTART;VALUE=DATE:20231007
DTEND;VALUE=DATE:20231008
DTSTAMP:20260419T222750
CREATED:20230901T090852Z
LAST-MODIFIED:20230901T122821Z
UID:5818-1696636800-1696723199@pmk-kleve.de
SUMMARY:Pielgrzymka różańcowa do Banneux
DESCRIPTION:Pielgrzymka różańcowa do Matki Bożej Panny Ubogich w Banneux odbędzie się w sobotę 7 października.  \nWyjazd z Emmerich HBF godz. 6.00\, Kleve Parking przy Van den Bergh Str. godz. 6.30\, Kevelaer HBF godz. 7.00.  \nZapisy w zakrystii po Mszy św.\, koszt 25 €. \nPROGRAM PIELGRZYMKI: \n10.00 okazja do Spowiedzi świętej \n10.30 modlitwa różańcowa \n11.00 Msza święta \n14.00 Droga Krzyżowa \n15.00 Międzynarodowe Nabożeństwo Eucharystyczne dla chorych \n
URL:https://pmk-kleve.de/event/pielgrzymka-rozancowa-do-banneux
CATEGORIES:Wydarzenia na strone główną
END:VEVENT
END:VCALENDAR