BEGIN:VCALENDAR
VERSION:2.0
PRODID:-//PMK Kleve - ECPv4.7.1//NONSGML v1.0//EN
CALSCALE:GREGORIAN
METHOD:PUBLISH
X-WR-CALNAME:PMK Kleve
X-ORIGINAL-URL:https://pmk-kleve.de
X-WR-CALDESC:Veranstaltungen für PMK Kleve
BEGIN:VEVENT
DTSTART;VALUE=DATE:20230520
DTEND;VALUE=DATE:20230521
DTSTAMP:20260422T173600
CREATED:20230520T222146Z
LAST-MODIFIED:20230520T222146Z
UID:5527-1684540800-1684627199@pmk-kleve.de
SUMMARY:Pierwsza Komunia św.
DESCRIPTION:Kościół pw. Chrystusa Króla\, godz. 12.00 \n
URL:https://pmk-kleve.de/event/pierwsza-komunia-sw
CATEGORIES:Wydarzenia na strone główną
END:VEVENT
END:VCALENDAR