BEGIN:VCALENDAR
VERSION:2.0
PRODID:-//PMK Kleve - ECPv4.7.1//NONSGML v1.0//EN
CALSCALE:GREGORIAN
METHOD:PUBLISH
X-WR-CALNAME:PMK Kleve
X-ORIGINAL-URL:https://pmk-kleve.de
X-WR-CALDESC:Veranstaltungen für PMK Kleve
BEGIN:VEVENT
DTSTART;VALUE=DATE:20230304
DTEND;VALUE=DATE:20230305
DTSTAMP:20260423T011525
CREATED:20230224T123222Z
LAST-MODIFIED:20230224T123222Z
UID:5187-1677888000-1677974399@pmk-kleve.de
SUMMARY:Pierwsza sobota miesiąca
DESCRIPTION:Dzień naszego oddania Niepokalanemu Sercu Bożej Matki.  \nSerdecznie zapraszam na:  \n\nEucharystię sprawowaną o godz. 9.30 w Kevelaer w Beichtkapelle oraz\nadorację w Kleve w St. Mariä Empfängnis od godz. 18.00.\n\n
URL:https://pmk-kleve.de/event/pierwsza-sobota-miesiaca-10
CATEGORIES:Wydarzenia na strone główną
END:VEVENT
END:VCALENDAR