BEGIN:VCALENDAR
VERSION:2.0
PRODID:-//PMK Kleve - ECPv4.7.1//NONSGML v1.0//EN
CALSCALE:GREGORIAN
METHOD:PUBLISH
X-WR-CALNAME:PMK Kleve
X-ORIGINAL-URL:https://pmk-kleve.de
X-WR-CALDESC:Veranstaltungen für PMK Kleve
BEGIN:VEVENT
DTSTART;VALUE=DATE:20230603
DTEND;VALUE=DATE:20230604
DTSTAMP:20260422T153705
CREATED:20230526T120732Z
LAST-MODIFIED:20230526T120732Z
UID:5567-1685750400-1685836799@pmk-kleve.de
SUMMARY:Pierwsza sobota miesiąca
DESCRIPTION: W sobotę 03.06 zapraszamy na Mszę św. z nabożeństwem pierwszej soboty i wymianę róż różańcowych z Emmerich na godz. 9.30 do kościoła St. Aldegundis.  \nWieczorna Adoracja Najświętszego Sakramentu oraz wspólna modlitwa różańcowa i wymiana tajemnic w Kleve\, w kościele St. Mariä Empfängnis o godz. 18.00.  \nW Kevelaer wymiana tajemnic po Mszy św. w niedzielę.  \n
URL:https://pmk-kleve.de/event/pierwsza-sobota-miesiaca-11
CATEGORIES:Wydarzenia na strone główną
END:VEVENT
END:VCALENDAR