BEGIN:VCALENDAR
VERSION:2.0
PRODID:-//PMK Kleve - ECPv4.7.1//NONSGML v1.0//EN
CALSCALE:GREGORIAN
METHOD:PUBLISH
X-WR-CALNAME:PMK Kleve
X-ORIGINAL-URL:https://pmk-kleve.de
X-WR-CALDESC:Veranstaltungen für PMK Kleve
BEGIN:VEVENT
DTSTART;VALUE=DATE:20231104
DTEND;VALUE=DATE:20231105
DTSTAMP:20260420T013548
CREATED:20231027T114749Z
LAST-MODIFIED:20231027T115107Z
UID:5938-1699056000-1699142399@pmk-kleve.de
SUMMARY:Pierwsza sobota miesiąca
DESCRIPTION:\nMsza św. i nabożeństwo ku czci Niepokalanego Serca Najświętszej Maryi Panny o godz. 9.30 w Beichtkapelle w Kevelaer.\nO godz. 18.00 w kościele St. Mariä Empfängnis w Kleve adoracja Najświętszego Sakramentu oraz konferencja i wymiana tajemnic dla Róż Różańcowych.\n\n
URL:https://pmk-kleve.de/event/pierwsza-sobota-miesiaca-13
CATEGORIES:Wydarzenia na strone główną
END:VEVENT
END:VCALENDAR