BEGIN:VCALENDAR
VERSION:2.0
PRODID:-//PMK Kleve - ECPv4.7.1//NONSGML v1.0//EN
CALSCALE:GREGORIAN
METHOD:PUBLISH
X-WR-CALNAME:PMK Kleve
X-ORIGINAL-URL:https://pmk-kleve.de
X-WR-CALDESC:Veranstaltungen für PMK Kleve
BEGIN:VEVENT
DTSTART;VALUE=DATE:20240504
DTEND;VALUE=DATE:20240505
DTSTAMP:20260420T035740
CREATED:20240419T101330Z
LAST-MODIFIED:20240419T101330Z
UID:6531-1714780800-1714867199@pmk-kleve.de
SUMMARY:Pierwsza sobota miesiąca
DESCRIPTION:W sobotę 4 maja odbędzie się Pielgrzymka Polaków – z polskich Misji Katolickich – do Matki Bożej Pocieszycielki Strapionych w Kevelaer. To drugie największe Sanktuarium Maryjne na terenie Niemiec znajduje się na terenie naszej parafii. \nZachęcam do udziału. Rozpoczynamy o godz. 10.30 modlitwą różańcową na placu\, przy kaplicy MB Pocieszycielki Strapionych. Uroczysta Msza św. w Bazylice MB o godz. 11.30. Program jest dostępny na plakatach\, stronie internetowej oraz FB.  \n
URL:https://pmk-kleve.de/event/pierwsza-sobota-miesiaca-16
CATEGORIES:Wydarzenia na strone główną
END:VEVENT
END:VCALENDAR