BEGIN:VCALENDAR
VERSION:2.0
PRODID:-//PMK Kleve - ECPv4.7.1//NONSGML v1.0//EN
CALSCALE:GREGORIAN
METHOD:PUBLISH
X-WR-CALNAME:PMK Kleve
X-ORIGINAL-URL:https://pmk-kleve.de
X-WR-CALDESC:Veranstaltungen für PMK Kleve
BEGIN:VEVENT
DTSTART;VALUE=DATE:20240706
DTEND;VALUE=DATE:20240707
DTSTAMP:20260422T085454
CREATED:20240628T102556Z
LAST-MODIFIED:20240628T102715Z
UID:6684-1720224000-1720310399@pmk-kleve.de
SUMMARY:Pierwsza sobota miesiąca
DESCRIPTION:W pierwszą sobotę miesiąca spotykamy się na Mszy św. w Kevelaer w Beichtkapelle o godz. 9.30. Po Mszy św. wspólna modlitwa różańcowa i wymiana tajemnic róży różańcowej z Kevelaer. \nW Kleve i w Emmerich wymiana tajemnic róż różańcowych w niedzielę po Mszach świętych. \n  \n
URL:https://pmk-kleve.de/event/pierwsza-sobota-miesiaca-17
CATEGORIES:Wydarzenia na strone główną
END:VEVENT
END:VCALENDAR