BEGIN:VCALENDAR
VERSION:2.0
PRODID:-//PMK Kleve - ECPv4.7.1//NONSGML v1.0//EN
CALSCALE:GREGORIAN
METHOD:PUBLISH
X-WR-CALNAME:PMK Kleve
X-ORIGINAL-URL:https://pmk-kleve.de
X-WR-CALDESC:Veranstaltungen für PMK Kleve
BEGIN:VEVENT
DTSTART;VALUE=DATE:20220205
DTEND;VALUE=DATE:20220206
DTSTAMP:20260425T150055
CREATED:20220128T121349Z
LAST-MODIFIED:20220128T121349Z
UID:3710-1644019200-1644105599@pmk-kleve.de
SUMMARY:Pierwsza sobota miesiąca
DESCRIPTION:  \n\nMsza św. w Emmerich o godz. 9.30\, następnie nabożeństwo ku czci Matki Najświętszej\,\no godz. 18.00 w Kleve adoracja Najświętszego Sakramentu i wspólna modlitwa różańcowa.\n\n
URL:https://pmk-kleve.de/event/pierwsza-sobota-miesiaca-3
CATEGORIES:Wydarzenia na strone główną
END:VEVENT
END:VCALENDAR