BEGIN:VCALENDAR
VERSION:2.0
PRODID:-//PMK Kleve - ECPv4.7.1//NONSGML v1.0//EN
CALSCALE:GREGORIAN
METHOD:PUBLISH
X-WR-CALNAME:PMK Kleve
X-ORIGINAL-URL:https://pmk-kleve.de
X-WR-CALDESC:Veranstaltungen für PMK Kleve
BEGIN:VEVENT
DTSTART;VALUE=DATE:20230107
DTEND;VALUE=DATE:20230108
DTSTAMP:20260423T104504
CREATED:20221230T115527Z
LAST-MODIFIED:20221230T115527Z
UID:4979-1673049600-1673135999@pmk-kleve.de
SUMMARY:Pierwsza sobota miesiąca
DESCRIPTION:Dzień naszego oddania Niepokalanemu Sercu Bożej Matki.  \nSerdecznie zapraszam na:  \n\nEucharystię sprawowaną o godz. 9.30 w Kevelaer w Beichtkapelle oraz\nadorację w Kleve w St. Mariä Empfängnis od godz. 18.00.\n\n
URL:https://pmk-kleve.de/event/pierwsza-sobota-miesiaca-9
CATEGORIES:Wydarzenia na strone główną
END:VEVENT
END:VCALENDAR