BEGIN:VCALENDAR
VERSION:2.0
PRODID:-//PMK Kleve - ECPv4.7.1//NONSGML v1.0//EN
CALSCALE:GREGORIAN
METHOD:PUBLISH
X-WR-CALNAME:PMK Kleve
X-ORIGINAL-URL:https://pmk-kleve.de
X-WR-CALDESC:Veranstaltungen für PMK Kleve
BEGIN:VEVENT
DTSTART;VALUE=DATE:20221006
DTEND;VALUE=DATE:20221007
DTSTAMP:20260423T221820
CREATED:20220910T231230Z
LAST-MODIFIED:20220910T231230Z
UID:4322-1665014400-1665100799@pmk-kleve.de
SUMMARY:Pierwszy czwartek miesiąca
DESCRIPTION:Msza św.\, adoracja Najświętszego Sakramentu i modlitwa o uświęcenie kapłanów oraz o nowe powołania o godz. 19.30 w Kevelaer. \n
URL:https://pmk-kleve.de/event/pierwszy-czwartek-miesiaca-10
CATEGORIES:Wydarzenia na strone główną
END:VEVENT
END:VCALENDAR