BEGIN:VCALENDAR
VERSION:2.0
PRODID:-//PMK Kleve - ECPv4.7.1//NONSGML v1.0//EN
CALSCALE:GREGORIAN
METHOD:PUBLISH
X-WR-CALNAME:PMK Kleve
X-ORIGINAL-URL:https://pmk-kleve.de
X-WR-CALDESC:Veranstaltungen für PMK Kleve
BEGIN:VEVENT
DTSTART;VALUE=DATE:20231207
DTEND;VALUE=DATE:20231208
DTSTAMP:20260421T085207
CREATED:20231201T121244Z
LAST-MODIFIED:20231201T121245Z
UID:6082-1701907200-1701993599@pmk-kleve.de
SUMMARY:Pierwszy czwartek miesiąca
DESCRIPTION:Msza Święta w Kevelaer\, Beichtkapelle o godz. 19.30.  \nBędziemy się modlić o nowe\, dobre i liczne powołania kapłańskie i zakonne oraz o uświęcenie już powołanych kapłanów i sióstr zakonnych.  \n
URL:https://pmk-kleve.de/event/pierwszy-czwartek-miesiaca-16
CATEGORIES:Wydarzenia na strone główną
END:VEVENT
END:VCALENDAR