BEGIN:VCALENDAR
VERSION:2.0
PRODID:-//PMK Kleve - ECPv4.7.1//NONSGML v1.0//EN
CALSCALE:GREGORIAN
METHOD:PUBLISH
X-WR-CALNAME:PMK Kleve
X-ORIGINAL-URL:https://pmk-kleve.de
X-WR-CALDESC:Veranstaltungen für PMK Kleve
BEGIN:VEVENT
DTSTART;VALUE=DATE:20240704
DTEND;VALUE=DATE:20240705
DTSTAMP:20260422T100834
CREATED:20240628T103822Z
LAST-MODIFIED:20240628T103822Z
UID:6694-1720051200-1720137599@pmk-kleve.de
SUMMARY:Pierwszy czwartek miesiąca
DESCRIPTION:Podczas Mszy świętej o godz. 19.30 w Kevelaer w Beichtkapelle będziemy dziękować za dar Eucharystii i kapłaństwa\, prosząc o nowe i święte powołania do pracy w Pańskiej Winnicy\, także z naszej wspólnoty parafialnej.  \n
URL:https://pmk-kleve.de/event/pierwszy-czwartek-miesiaca-19
CATEGORIES:Wydarzenia na strone główną
END:VEVENT
END:VCALENDAR