BEGIN:VCALENDAR
VERSION:2.0
PRODID:-//PMK Kleve - ECPv4.7.1//NONSGML v1.0//EN
CALSCALE:GREGORIAN
METHOD:PUBLISH
X-WR-CALNAME:PMK Kleve
X-ORIGINAL-URL:https://pmk-kleve.de
X-WR-CALDESC:Veranstaltungen für PMK Kleve
BEGIN:VEVENT
DTSTART;VALUE=DATE:20241003
DTEND;VALUE=DATE:20241004
DTSTAMP:20260422T102526
CREATED:20240927T123129Z
LAST-MODIFIED:20240927T123129Z
UID:6839-1727913600-1727999999@pmk-kleve.de
SUMMARY:Pierwszy czwartek miesiąca
DESCRIPTION:Dzień modlitw o nowe powołania kapłańskie i zakonne oraz o uświęcenie powołanych do Służby Bożej.  \nMsza św. w Kevelaer: Beichtkapelle godz. 19.30  \n
URL:https://pmk-kleve.de/event/pierwszy-czwartek-miesiaca-20
END:VEVENT
END:VCALENDAR