BEGIN:VCALENDAR
VERSION:2.0
PRODID:-//PMK Kleve - ECPv4.7.1//NONSGML v1.0//EN
CALSCALE:GREGORIAN
METHOD:PUBLISH
X-WR-CALNAME:PMK Kleve
X-ORIGINAL-URL:https://pmk-kleve.de
X-WR-CALDESC:Veranstaltungen für PMK Kleve
BEGIN:VEVENT
DTSTART;VALUE=DATE:20241107
DTEND;VALUE=DATE:20241108
DTSTAMP:20260422T135855
CREATED:20241031T093405Z
LAST-MODIFIED:20241031T093406Z
UID:6939-1730937600-1731023999@pmk-kleve.de
SUMMARY:Pierwszy czwartek miesiąca
DESCRIPTION:Msza św. i nabożeństwo o nowe i dobre powołania kapłańskie i zakonne oraz o uświęcenie już powołanych : w Kevelaer (Sanktuarium Matki Bożej Pocieszycielki Strapionych)\, Beichtkapelle godz. 19.30. \n
URL:https://pmk-kleve.de/event/pierwszy-czwartek-miesiaca-21
CATEGORIES:Wydarzenia na strone główną
END:VEVENT
END:VCALENDAR