BEGIN:VCALENDAR
VERSION:2.0
PRODID:-//PMK Kleve - ECPv4.7.1//NONSGML v1.0//EN
CALSCALE:GREGORIAN
METHOD:PUBLISH
X-WR-CALNAME:PMK Kleve
X-ORIGINAL-URL:https://pmk-kleve.de
X-WR-CALDESC:Veranstaltungen für PMK Kleve
BEGIN:VEVENT
DTSTART;VALUE=DATE:20220106
DTEND;VALUE=DATE:20220107
DTSTAMP:20260426T003825
CREATED:20220103T202721Z
LAST-MODIFIED:20220103T202722Z
UID:3657-1641427200-1641513599@pmk-kleve.de
SUMMARY:Pierwszy czwartek miesiąca
DESCRIPTION:Czwartek\, 6 stycznia\, jest pierwszym czwartkiem miesiąca. Niech nie zabraknie modlitwy za kapłanów oraz o nowe powołania kapłańskie i zakonne\, szczególnie do pracy w krajach misyjnych. Tego dnia po Mszy św. nabożeństwo z modlitwą o powołania.  \nMsza Św. z obrzędem błogosławieństwa kredy i kadzidła będzie sprawowana w Kevelaer o godz. 19.30 w Sanktuarium MB. \n
URL:https://pmk-kleve.de/event/pierwszy-czwartek-miesiaca-4
CATEGORIES:Wydarzenia na strone główną
END:VEVENT
END:VCALENDAR