BEGIN:VCALENDAR
VERSION:2.0
PRODID:-//PMK Kleve - ECPv4.7.1//NONSGML v1.0//EN
CALSCALE:GREGORIAN
METHOD:PUBLISH
X-WR-CALNAME:PMK Kleve
X-ORIGINAL-URL:https://pmk-kleve.de
X-WR-CALDESC:Veranstaltungen für PMK Kleve
BEGIN:VEVENT
DTSTART;VALUE=DATE:20221202
DTEND;VALUE=DATE:20221203
DTSTAMP:20260423T102330
CREATED:20221106T170133Z
LAST-MODIFIED:20221126T175904Z
UID:4534-1669939200-1670025599@pmk-kleve.de
SUMMARY:6. dzień Adwentu
DESCRIPTION:Dzisiaj jest pierwszy piątek miesiąca.  \nMsza św. w Emmerich am Rhein – w kościele St. Aldegundis – godz. 19.00. \nWarto skorzystać z sakramentu pokuty\, szczególnie w dniu pierwszego piątku miesiąca\, aby móc często i godnie przystępować w Adwencie do Komunii świętej. \n
URL:https://pmk-kleve.de/event/pierwszy-piatek-miesiaca-11
CATEGORIES:Wydarzenia na strone główną
END:VEVENT
END:VCALENDAR