BEGIN:VCALENDAR
VERSION:2.0
PRODID:-//PMK Kleve - ECPv4.7.1//NONSGML v1.0//EN
CALSCALE:GREGORIAN
METHOD:PUBLISH
X-WR-CALNAME:PMK Kleve
X-ORIGINAL-URL:https://pmk-kleve.de
X-WR-CALDESC:Veranstaltungen für PMK Kleve
BEGIN:VEVENT
DTSTART;VALUE=DATE:20221202
DTEND;VALUE=DATE:20221203
DTSTAMP:20260423T071430
CREATED:20221125T130528Z
LAST-MODIFIED:20221125T130528Z
UID:4705-1669939200-1670025599@pmk-kleve.de
SUMMARY:Pierwszy piątek miesiąca
DESCRIPTION:Pierwszy piątek miesiąca\, to dzień\, w którym wynagradzamy Sercu Pana Jezusa popełnione grzechy. \nZachęcamy do adwentowej spowiedzi pierwszopiatkowej. \nMsza św. w Emmerich am Rhein – w kościele St. Aldegundis – godz. 19.00. \n
URL:https://pmk-kleve.de/event/pierwszy-piatek-miesiaca-12
CATEGORIES:Wydarzenia na strone główną
END:VEVENT
END:VCALENDAR