BEGIN:VCALENDAR
VERSION:2.0
PRODID:-//PMK Kleve - ECPv4.7.1//NONSGML v1.0//EN
CALSCALE:GREGORIAN
METHOD:PUBLISH
X-WR-CALNAME:PMK Kleve
X-ORIGINAL-URL:https://pmk-kleve.de
X-WR-CALDESC:Veranstaltungen für PMK Kleve
BEGIN:VEVENT
DTSTART;VALUE=DATE:20230602
DTEND;VALUE=DATE:20230603
DTSTAMP:20260422T170028
CREATED:20230526T120537Z
LAST-MODIFIED:20230526T120537Z
UID:5565-1685664000-1685750399@pmk-kleve.de
SUMMARY:Pierwszy piątek miesiąca
DESCRIPTION:Msza św. w Emmerich am Rhein\, w kościele St. Aldegundis o godz. 19.00. \nPo Mszy św.  nabożeństwo ku czci Najświętszego Serca Pana Jezusa. \n
URL:https://pmk-kleve.de/event/pierwszy-piatek-miesiaca-16
CATEGORIES:Wydarzenia na strone główną
END:VEVENT
END:VCALENDAR