BEGIN:VCALENDAR
VERSION:2.0
PRODID:-//PMK Kleve - ECPv4.7.1//NONSGML v1.0//EN
CALSCALE:GREGORIAN
METHOD:PUBLISH
X-WR-CALNAME:PMK Kleve
X-ORIGINAL-URL:https://pmk-kleve.de
X-WR-CALDESC:Veranstaltungen für PMK Kleve
BEGIN:VEVENT
DTSTART;VALUE=DATE:20230707
DTEND;VALUE=DATE:20230708
DTSTAMP:20260422T084324
CREATED:20230623T122147Z
LAST-MODIFIED:20230623T122147Z
UID:5647-1688688000-1688774399@pmk-kleve.de
SUMMARY:Pierwszy piątek miesiąca
DESCRIPTION:
URL:https://pmk-kleve.de/event/pierwszy-piatek-miesiaca-17
CATEGORIES:Wydarzenia na strone główną
END:VEVENT
END:VCALENDAR