BEGIN:VCALENDAR
VERSION:2.0
PRODID:-//PMK Kleve - ECPv4.7.1//NONSGML v1.0//EN
CALSCALE:GREGORIAN
METHOD:PUBLISH
X-WR-CALNAME:PMK Kleve
X-ORIGINAL-URL:https://pmk-kleve.de
X-WR-CALDESC:Veranstaltungen für PMK Kleve
BEGIN:VEVENT
DTSTART;VALUE=DATE:20231103
DTEND;VALUE=DATE:20231104
DTSTAMP:20260420T031539
CREATED:20231027T114525Z
LAST-MODIFIED:20231027T114526Z
UID:5936-1698969600-1699055999@pmk-kleve.de
SUMMARY:Pierwszy piątek miesiąca
DESCRIPTION:Msza św. z nabożeństwem do Najświętszego Serca Pana Jezusa oraz różańcem w intencji zmarłych w Emmerich o godz. 19.00.  \n
URL:https://pmk-kleve.de/event/pierwszy-piatek-miesiaca-20
CATEGORIES:Wydarzenia na strone główną
END:VEVENT
END:VCALENDAR