BEGIN:VCALENDAR
VERSION:2.0
PRODID:-//PMK Kleve - ECPv4.7.1//NONSGML v1.0//EN
CALSCALE:GREGORIAN
METHOD:PUBLISH
X-WR-CALNAME:PMK Kleve
X-ORIGINAL-URL:https://pmk-kleve.de
X-WR-CALDESC:Veranstaltungen für PMK Kleve
BEGIN:VEVENT
DTSTART;VALUE=DATE:20231201
DTEND;VALUE=DATE:20231202
DTSTAMP:20260420T050421
CREATED:20231124T101934Z
LAST-MODIFIED:20231124T101935Z
UID:6010-1701388800-1701475199@pmk-kleve.de
SUMMARY:Pierwszy piątek miesiąca
DESCRIPTION: W piątek będziemy przepraszać Boże Serce za wszelki brak miłości\, za lekceważenie daru Bożego miłosierdzia podczas adoracji Najświętszego \nSakramentu i Mszy Świętej w Emmerich o godz. 19.00. Okazja do pierwszopiątkowej spowiedzi przed Mszą św.  \n
URL:https://pmk-kleve.de/event/pierwszy-piatek-miesiaca-21
CATEGORIES:Wydarzenia na strone główną
END:VEVENT
END:VCALENDAR