BEGIN:VCALENDAR
VERSION:2.0
PRODID:-//PMK Kleve - ECPv4.7.1//NONSGML v1.0//EN
CALSCALE:GREGORIAN
METHOD:PUBLISH
X-WR-CALNAME:PMK Kleve
X-ORIGINAL-URL:https://pmk-kleve.de
X-WR-CALDESC:Veranstaltungen für PMK Kleve
BEGIN:VEVENT
DTSTART;VALUE=DATE:20240301
DTEND;VALUE=DATE:20240302
DTSTAMP:20260419T155048
CREATED:20240223T132644Z
LAST-MODIFIED:20240223T132757Z
UID:6377-1709251200-1709337599@pmk-kleve.de
SUMMARY:Pierwszy piątek miesiąca
DESCRIPTION:Msza św. w Emmerich\, kościół St. Aldegundis\, godz. 19.00 \nPo Mszy św. nabożeństwo Drogi Krzyżowej \n
URL:https://pmk-kleve.de/event/pierwszy-piatek-miesiaca-23
CATEGORIES:Wydarzenia na strone główną
END:VEVENT
END:VCALENDAR