BEGIN:VCALENDAR
VERSION:2.0
PRODID:-//PMK Kleve - ECPv4.7.1//NONSGML v1.0//EN
CALSCALE:GREGORIAN
METHOD:PUBLISH
X-WR-CALNAME:PMK Kleve
X-ORIGINAL-URL:https://pmk-kleve.de
X-WR-CALDESC:Veranstaltungen für PMK Kleve
BEGIN:VEVENT
DTSTART;VALUE=DATE:20240503
DTEND;VALUE=DATE:20240504
DTSTAMP:20260420T053338
CREATED:20240419T101156Z
LAST-MODIFIED:20240419T101156Z
UID:6529-1714694400-1714780799@pmk-kleve.de
SUMMARY:Pierwszy piątek miesiąca
DESCRIPTION:W piątek\, 3 maja\, obchodzimy uroczystość Najświętszej Maryi Panny Królowej Polski i Głównej Patronki naszej ojczyzny oraz Narodowe Święto Rocznicy Uchwalenia Konstytucji Trzeciego Maja.  \nPrzyjdźmy w tym dniu do kościoła na Mszę świętą do Emmerich\, do kościoła St. Aldegundis\, na godz. 19.00.\, aby modlić się w intencji naszej ojczyzny Polski oraz za Polaków i Polki w kraju i na emigracji. W czasie nabożeństwa majowego odnowimy Akt poświęcenia rodzaju ludzkiego Najświętszemu Sercu Pana Jezusa. \nZe względu na przypadającą uroczystość nie obowiązuje nas wstrzemięźliwość od pokarmów mięsnych.  \n
URL:https://pmk-kleve.de/event/pierwszy-piatek-miesiaca-24
CATEGORIES:Wydarzenia na strone główną
END:VEVENT
END:VCALENDAR