BEGIN:VCALENDAR
VERSION:2.0
PRODID:-//PMK Kleve - ECPv4.7.1//NONSGML v1.0//EN
CALSCALE:GREGORIAN
METHOD:PUBLISH
X-WR-CALNAME:PMK Kleve
X-ORIGINAL-URL:https://pmk-kleve.de
X-WR-CALDESC:Veranstaltungen für PMK Kleve
BEGIN:VEVENT
DTSTART;VALUE=DATE:20240705
DTEND;VALUE=DATE:20240706
DTSTAMP:20260420T071543
CREATED:20240628T102308Z
LAST-MODIFIED:20240628T102308Z
UID:6682-1720137600-1720223999@pmk-kleve.de
SUMMARY:Pierwszy piątek miesiąca
DESCRIPTION:W pierwszy piątek pragniemy wynagradzać Panu Jezusowi za grzechy nasze i całego świata\, podczas adoracji Najświętszego Sakramentu i podczas pierwszopiątkowego nabożeństwa. \n Msza Święta o godz. 19.00 w Emmerich am Rhein.  \n
URL:https://pmk-kleve.de/event/pierwszy-piatek-miesiaca-25
CATEGORIES:Wydarzenia na strone główną
END:VEVENT
END:VCALENDAR