BEGIN:VCALENDAR
VERSION:2.0
PRODID:-//PMK Kleve - ECPv4.7.1//NONSGML v1.0//EN
CALSCALE:GREGORIAN
METHOD:PUBLISH
X-WR-CALNAME:PMK Kleve
X-ORIGINAL-URL:https://pmk-kleve.de
X-WR-CALDESC:Veranstaltungen für PMK Kleve
BEGIN:VEVENT
DTSTART;VALUE=DATE:20241004
DTEND;VALUE=DATE:20241005
DTSTAMP:20260422T120502
CREATED:20240927T123317Z
LAST-MODIFIED:20240927T130024Z
UID:6841-1728000000-1728086399@pmk-kleve.de
SUMMARY:Pierwszy piątek miesiąca
DESCRIPTION:Dzień wynagrodzenia za grzechy Sercu Jezusowemu.\nMsza św. z nabożeństwem do Serca Jezusa w Emmerich\, w kościele St. Adegundis o godz. 19.00  \n
URL:https://pmk-kleve.de/event/pierwszy-piatek-miesiaca-26
CATEGORIES:Wydarzenia na strone główną
END:VEVENT
END:VCALENDAR