BEGIN:VCALENDAR
VERSION:2.0
PRODID:-//PMK Kleve - ECPv4.7.1//NONSGML v1.0//EN
CALSCALE:GREGORIAN
METHOD:PUBLISH
X-WR-CALNAME:PMK Kleve
X-ORIGINAL-URL:https://pmk-kleve.de
X-WR-CALDESC:Veranstaltungen für PMK Kleve
BEGIN:VEVENT
DTSTART;VALUE=DATE:20220304
DTEND;VALUE=DATE:20220305
DTSTAMP:20260425T114836
CREATED:20220227T150714Z
LAST-MODIFIED:20220227T151308Z
UID:3762-1646352000-1646438399@pmk-kleve.de
SUMMARY:Pierwszy piątek miesiąca
DESCRIPTION:Msza św. w Emmerich o godz. 19.00. \nPrzed mszą świętą możliwość przystąpienia do spowiedzi pierwszopiątkowej.  \nPo mszy św. nabożeństwo do Najświętszego Serca Pana Jezusa oraz nabożeństwo Drogi Krzyżowej. \n
URL:https://pmk-kleve.de/event/pierwszy-piatek-miesiaca-8
CATEGORIES:Wydarzenia na strone główną
END:VEVENT
END:VCALENDAR