BEGIN:VCALENDAR
VERSION:2.0
PRODID:-//PMK Kleve - ECPv4.7.1//NONSGML v1.0//EN
CALSCALE:GREGORIAN
METHOD:PUBLISH
X-WR-CALNAME:PMK Kleve
X-ORIGINAL-URL:https://pmk-kleve.de
X-WR-CALDESC:Veranstaltungen für PMK Kleve
BEGIN:VEVENT
DTSTART;VALUE=DATE:20220902
DTEND;VALUE=DATE:20220903
DTSTAMP:20260423T222935
CREATED:20220902T104840Z
LAST-MODIFIED:20220902T104840Z
UID:4289-1662076800-1662163199@pmk-kleve.de
SUMMARY:Pierwszy piatek miesiąca
DESCRIPTION:Msza św. – Emmerich am Rhein\, godz. 19.00 \n
URL:https://pmk-kleve.de/event/pierwszy-piatek-miesiaca-9
CATEGORIES:Wydarzenia na strone główną
END:VEVENT
END:VCALENDAR