BEGIN:VCALENDAR
VERSION:2.0
PRODID:-//PMK Kleve - ECPv4.7.1//NONSGML v1.0//EN
CALSCALE:GREGORIAN
METHOD:PUBLISH
X-WR-CALNAME:PMK Kleve
X-ORIGINAL-URL:https://pmk-kleve.de
X-WR-CALDESC:Veranstaltungen für PMK Kleve
BEGIN:VEVENT
DTSTART;TZID=UTC+0:20220409T080000
DTEND;TZID=UTC+0:20220409T140000
DTSTAMP:20260423T162836
CREATED:20220331T080054Z
LAST-MODIFIED:20220403T120345Z
UID:3937-1649491200-1649512800@pmk-kleve.de
SUMMARY:Piesza Droga Krzyżowa
DESCRIPTION: W sobotę 09.04.2022 o godz. 8.00 wyruszymy w pieszą Drogę Krzyżową z miejscowości Hüthum. \nPierwsza i ostatnia stacja przy kościele St. Georg\, Clemens-August-Str. 2\, 46446 Emmerich am Rhein – Hüthum.  \nDługość trasy ok 20 km. \nIstnieje możliwość pozostawienia samochodu na parkingu. \nZapraszamy wszystkich parafian! \n
URL:https://pmk-kleve.de/event/piesza-droga-krzyzowa-2
CATEGORIES:Wydarzenia na strone główną
END:VEVENT
END:VCALENDAR