BEGIN:VCALENDAR
VERSION:2.0
PRODID:-//PMK Kleve - ECPv4.7.1//NONSGML v1.0//EN
CALSCALE:GREGORIAN
METHOD:PUBLISH
X-WR-CALNAME:PMK Kleve
X-ORIGINAL-URL:https://pmk-kleve.de
X-WR-CALDESC:Veranstaltungen für PMK Kleve
BEGIN:VEVENT
DTSTART;VALUE=DATE:20230401
DTEND;VALUE=DATE:20230402
DTSTAMP:20260423T020359
CREATED:20230224T125007Z
LAST-MODIFIED:20230324T094013Z
UID:5191-1680307200-1680393599@pmk-kleve.de
SUMMARY:Piesza Droga krzyżowa
DESCRIPTION:W sobotę 01.04.2023 o godz. 8.00 wyruszymy w pieszą Drogę Krzyżową z miejscowości Hüthum (do ok. godz. 14.00). \nPierwsza i ostatnia stacja przy kościele St. Georg\, Clemens-August-Str. 2\, 46446 Emmerich am Rhein – Hüthum.  \nDługość trasy ok 23 km. Tegoroczna piesza Droga Krzyżowa będzie wyrazem naszego świadectwa w obronie autorytetu św. Jana Pawła II\, patrona naszej parafii. \nIstnieje możliwość pozostawienia samochodu na parkingu. \nZapraszamy wszystkich parafian! \n \n
URL:https://pmk-kleve.de/event/piesza-droga-krzyzowa-3
CATEGORIES:Wydarzenia na strone główną
END:VEVENT
END:VCALENDAR