BEGIN:VCALENDAR
VERSION:2.0
PRODID:-//PMK Kleve - ECPv4.7.1//NONSGML v1.0//EN
CALSCALE:GREGORIAN
METHOD:PUBLISH
X-WR-CALNAME:PMK Kleve
X-ORIGINAL-URL:https://pmk-kleve.de
X-WR-CALDESC:Veranstaltungen für PMK Kleve
BEGIN:VEVENT
DTSTART;TZID=UTC+0:20190413T080000
DTEND;TZID=UTC+0:20190413T130000
DTSTAMP:20260425T151807
CREATED:20190402T064135Z
LAST-MODIFIED:20190412T070118Z
UID:542-1555142400-1555160400@pmk-kleve.de
SUMMARY:piesza Droga Krzyżowa Hüthum
DESCRIPTION:piesza Droga Krzyżowa \n13.04 sobota\, godz. 8.00   \nz miejscowości Hüthum \npierwsza i ostatnia stacja przy kościele St. Georg\, Georgstr.\, 46446 Emmerich am Rhein – Hüthum. \nDługość trasy ok 20 km. \n \n
URL:https://pmk-kleve.de/event/piesza-droga-krzyzowa
ATTACH;FMTTYPE=image/jpeg:https://pmk-kleve.de/wp-content/uploads/2019/04/baner-6a.jpg
END:VEVENT
END:VCALENDAR