BEGIN:VCALENDAR
VERSION:2.0
PRODID:-//PMK Kleve - ECPv4.7.1//NONSGML v1.0//EN
CALSCALE:GREGORIAN
METHOD:PUBLISH
X-WR-CALNAME:PMK Kleve
X-ORIGINAL-URL:https://pmk-kleve.de
X-WR-CALDESC:Veranstaltungen für PMK Kleve
BEGIN:VEVENT
DTSTART;TZID=UTC+0:20220618T120000
DTEND;TZID=UTC+0:20220618T190000
DTSTAMP:20260423T133543
CREATED:20220605T160134Z
LAST-MODIFIED:20220605T162318Z
UID:4128-1655553600-1655578800@pmk-kleve.de
SUMMARY:Parafialny piknik rodzinny
DESCRIPTION: \n
URL:https://pmk-kleve.de/event/piknik-rodzinny-2
CATEGORIES:Wydarzenia na strone główną
END:VEVENT
END:VCALENDAR