BEGIN:VCALENDAR
VERSION:2.0
PRODID:-//PMK Kleve - ECPv4.7.1//NONSGML v1.0//EN
CALSCALE:GREGORIAN
METHOD:PUBLISH
X-WR-CALNAME:PMK Kleve
X-ORIGINAL-URL:https://pmk-kleve.de
X-WR-CALDESC:Veranstaltungen für PMK Kleve
BEGIN:VEVENT
DTSTART;VALUE=DATE:20190407
DTEND;VALUE=DATE:20190414
DTSTAMP:20260425T185732
CREATED:20190402T071819Z
LAST-MODIFIED:20190408T124211Z
UID:561-1554595200-1555199999@pmk-kleve.de
SUMMARY:rekolekcje wielkopostne
DESCRIPTION:Rozpoczniemy parafialne rekolekcje wielkopostne. \nNauki wygłosi dla nas ks. prof. Paweł Bortkiewicz SChr. \n  \n  \n
URL:https://pmk-kleve.de/event/poczatek-rekolekcji-wielkopostnych
CATEGORIES:Wydarzenia na strone główną
END:VEVENT
END:VCALENDAR