BEGIN:VCALENDAR
VERSION:2.0
PRODID:-//PMK Kleve - ECPv4.7.1//NONSGML v1.0//EN
CALSCALE:GREGORIAN
METHOD:PUBLISH
X-WR-CALNAME:PMK Kleve
X-ORIGINAL-URL:https://pmk-kleve.de
X-WR-CALDESC:Veranstaltungen für PMK Kleve
BEGIN:VEVENT
DTSTART;TZID=UTC+0:20220618T170000
DTEND;TZID=UTC+0:20220618T170000
DTSTAMP:20260423T120047
CREATED:20220512T083348Z
LAST-MODIFIED:20220617T195501Z
UID:4052-1655571600-1655571600@pmk-kleve.de
SUMMARY:Polonijna Pielgrzymka do Sanktuarium Matki Bożej Królowej Pokoju
DESCRIPTION: \n
URL:https://pmk-kleve.de/event/polonijna-pielgrzymka-do-sanktuarium-matki-bozej-krolowej-pokoju
CATEGORIES:Wydarzenia na strone główną
END:VEVENT
END:VCALENDAR