BEGIN:VCALENDAR
VERSION:2.0
PRODID:-//PMK Kleve - ECPv4.7.1//NONSGML v1.0//EN
CALSCALE:GREGORIAN
METHOD:PUBLISH
X-WR-CALNAME:PMK Kleve
X-ORIGINAL-URL:https://pmk-kleve.de
X-WR-CALDESC:Veranstaltungen für PMK Kleve
BEGIN:VEVENT
DTSTART;VALUE=DATE:20230624
DTEND;VALUE=DATE:20230625
DTSTAMP:20260422T143015
CREATED:20230514T200213Z
LAST-MODIFIED:20230613T135427Z
UID:5501-1687564800-1687651199@pmk-kleve.de
SUMMARY:XIX Polonijne spotkanie młodych w Concordii
DESCRIPTION:Wyjazd autobusu o godz. 7.15 z Kevelaer\, Parkplatz Busmannstr. 64 (parking przy ratuszu)\, godz. 7.45 Kleve\, przystanek przy dworcu kolejowym\, godz. 8.15 Emmerich\, parking przy dworcu kolejowym. Koszt 25 € od osoby. Powrót ok godz. 23.00. Zapisy w zakrystii po Mszy św.\n
URL:https://pmk-kleve.de/event/polonijne-spotkanie-mlodych
CATEGORIES:Wydarzenia na strone główną
END:VEVENT
END:VCALENDAR