BEGIN:VCALENDAR
VERSION:2.0
PRODID:-//PMK Kleve - ECPv4.7.1//NONSGML v1.0//EN
CALSCALE:GREGORIAN
METHOD:PUBLISH
X-WR-CALNAME:PMK Kleve
X-ORIGINAL-URL:https://pmk-kleve.de
X-WR-CALDESC:Veranstaltungen für PMK Kleve
BEGIN:VEVENT
DTSTART;VALUE=DATE:20250601
DTEND;VALUE=DATE:20250602
DTSTAMP:20260423T082513
CREATED:20250518T152250Z
LAST-MODIFIED:20250518T152250Z
UID:7430-1748736000-1748822399@pmk-kleve.de
SUMMARY:Polonijny Dzień Dziecka w Emmerich
DESCRIPTION: \n
URL:https://pmk-kleve.de/event/polonijny-dzien-dziecka-w-emmerich
CATEGORIES:Wydarzenia na strone główną
END:VEVENT
END:VCALENDAR