BEGIN:VCALENDAR
VERSION:2.0
PRODID:-//PMK Kleve - ECPv4.7.1//NONSGML v1.0//EN
CALSCALE:GREGORIAN
METHOD:PUBLISH
X-WR-CALNAME:PMK Kleve
X-ORIGINAL-URL:https://pmk-kleve.de
X-WR-CALDESC:Veranstaltungen für PMK Kleve
BEGIN:VEVENT
DTSTART;VALUE=DATE:20231029
DTEND;VALUE=DATE:20231030
DTSTAMP:20260421T095809
CREATED:20231027T114257Z
LAST-MODIFIED:20231027T114257Z
UID:5931-1698537600-1698623999@pmk-kleve.de
SUMMARY:Porady prawne
DESCRIPTION:Konsulat Generalny RP w Kolonii przy współpracy z polskojęzycznymi prawnikami oraz Polską Misją Katolicką w Niemczech organizuje spotkania\, podczas których będzie można zasięgnąć darmowych porad prawnych.  \nSpotkanie odbędzie się: w Kleve 29 października od godz. 13.00 w biurze parafialnym (Kavarinerstr. 10\, 47533 Kleve). \n
URL:https://pmk-kleve.de/event/porady-prawne
CATEGORIES:Wydarzenia na strone główną
END:VEVENT
END:VCALENDAR