BEGIN:VCALENDAR
VERSION:2.0
PRODID:-//PMK Kleve - ECPv4.7.1//NONSGML v1.0//EN
CALSCALE:GREGORIAN
METHOD:PUBLISH
X-WR-CALNAME:PMK Kleve
X-ORIGINAL-URL:https://pmk-kleve.de
X-WR-CALDESC:Veranstaltungen für PMK Kleve
BEGIN:VEVENT
DTSTART;TZID=UTC+0:20181202T120000
DTEND;TZID=UTC+0:20181202T130000
DTSTAMP:20260425T182409
CREATED:20190304T200744Z
LAST-MODIFIED:20190304T201059Z
UID:124-1543752000-1543755600@pmk-kleve.de
SUMMARY:Powstanie Polskiej Misji Katolickiej w Kleve
DESCRIPTION:Powstanie Polskiej Misji Katolickiej w Kleve \n
URL:https://pmk-kleve.de/event/powstanie-polskiej-misji-katolickiej-w-kleve
LOCATION:Kleve\, adres\, miejscowość\, kod
CATEGORIES:Wydarzenia Historia
END:VEVENT
END:VCALENDAR