BEGIN:VCALENDAR
VERSION:2.0
PRODID:-//PMK Kleve - ECPv4.7.1//NONSGML v1.0//EN
CALSCALE:GREGORIAN
METHOD:PUBLISH
X-WR-CALNAME:PMK Kleve
X-ORIGINAL-URL:https://pmk-kleve.de
X-WR-CALDESC:Veranstaltungen für PMK Kleve
BEGIN:VEVENT
DTSTART;VALUE=DATE:20240924
DTEND;VALUE=DATE:20240925
DTSTAMP:20260424T083230
CREATED:20240920T113037Z
LAST-MODIFIED:20240920T113157Z
UID:6818-1727136000-1727222399@pmk-kleve.de
SUMMARY:Próby scholi dziecięcej
DESCRIPTION:\n\n\n \n \n\nScholka jest wspólnotą\, którą tworzą zarówno dzieci jak i młodzież. Zadaniem tej grupy jest służba poprzez śpiew w czasie Mszy świętej. Śpiew scholki ma podprowadzić tych najmłodszych do pełniejszego i aktywnego przeżywania Mszy świętej\, w sposób szczególny na Mszy świętej z udziałem dzieci\, czyli w pierwszą niedzielę miesiąca\, a także przy okazji innych uroczystości. \nPróby scholii parafialnej odbywają się we wtorki: \n\nw Kevelaer godz. 15.30 – 16.30\,w salce za kościołem St. Antonius\nw Kleve godz. 17.15 – 18.15\, w salce przy biurze parafialnym\nw Emmerich godz. 18.45 – 19.45\, w salce przy kościele St. Aldegundis.\n\nKto może się zapisać?  \nKażde dziecko\, które czuje\, że mu coś w sercu śpiewa i chce służyć swoim głosem Bogu poprzez śpiew. \nGdzie można się zapisać? \nU s. Justyny\, osobiście lub telefonicznie +49151659205754\, albo po prostu przyjść na próbę. \n\n\n\n\n
URL:https://pmk-kleve.de/event/proby-scholi-dzieciecej
CATEGORIES:Wydarzenia na strone główną
END:VEVENT
END:VCALENDAR