BEGIN:VCALENDAR
VERSION:2.0
PRODID:-//PMK Kleve - ECPv4.7.1//NONSGML v1.0//EN
CALSCALE:GREGORIAN
METHOD:PUBLISH
X-WR-CALNAME:PMK Kleve
X-ORIGINAL-URL:https://pmk-kleve.de
X-WR-CALDESC:Veranstaltungen für PMK Kleve
BEGIN:VEVENT
DTSTART;VALUE=DATE:20240707
DTEND;VALUE=DATE:20240708
DTSTAMP:20260420T065758
CREATED:20240628T103522Z
LAST-MODIFIED:20240628T103522Z
UID:6692-1720310400-1720396799@pmk-kleve.de
SUMMARY:Procesja miejska w Emmerich
DESCRIPTION:W niedzielę 7 lipca w Emmerich odbędzie się procesja miejska.  \nW trakcie procesji mieszkańcy kierują do Boga prośby\, by błogosławił ich miastu.  \nZachęcam\, aby przyłączyć się do wspólnej modlitwy uczestnicząc we Mszy św. koncelebrowanej\, która rozpocznie się o godz. 10.00 w kościele St. Martini.  \nPo Mszy św. udamy się wspólnie w procesji z Najświętszym Sakramentem do kościoła St. Aldegundis\, gdzie zostanie udzielone błogosławieństwo.  \nTego dnia nie będzie Mszy św. w języku polskim o godz. 9.30 w St. Aldegundis.  \n
URL:https://pmk-kleve.de/event/procesja-miejska-w-emmerich-2
CATEGORIES:Wydarzenia na strone główną
END:VEVENT
END:VCALENDAR