BEGIN:VCALENDAR
VERSION:2.0
PRODID:-//PMK Kleve - ECPv4.7.1//NONSGML v1.0//EN
CALSCALE:GREGORIAN
METHOD:PUBLISH
X-WR-CALNAME:PMK Kleve
X-ORIGINAL-URL:https://pmk-kleve.de
X-WR-CALDESC:Veranstaltungen für PMK Kleve
BEGIN:VEVENT
DTSTART;VALUE=DATE:20230709
DTEND;VALUE=DATE:20230710
DTSTAMP:20260420T080305
CREATED:20230623T122532Z
LAST-MODIFIED:20230623T122532Z
UID:5653-1688860800-1688947199@pmk-kleve.de
SUMMARY:Procesja miejska w Emmerich am Rhein
DESCRIPTION:Przez wieki wiele się zmieniło w mieście Emmerich\, ale wciąż aktualna jest pierwotna motywacja\, jaką jest troska mieszkańców skierowana do Boga by błogosławił temu miastu. \n Zachęcam\, aby przyłączyć się do wspólnej modlitwy uczestnicząc we Mszy św. koncelebrowanej\, która rozpocznie się o godz. 10.00 w kościele St. Martini.  \nPo Mszy św. udamy się w procesji z Najświętszym Sakramentem do kościoła St. Aldegundis\, gdzie zostanie udzielone błogosławieństwo. \nTego dnia nie będzie Mszy św. o godz. 9.30 w St. Aldegundis. \n
URL:https://pmk-kleve.de/event/procesja-miejska-w-emmerich-am-rhein
CATEGORIES:Wydarzenia na strone główną
END:VEVENT
END:VCALENDAR