BEGIN:VCALENDAR
VERSION:2.0
PRODID:-//PMK Kleve - ECPv4.7.1//NONSGML v1.0//EN
CALSCALE:GREGORIAN
METHOD:PUBLISH
X-WR-CALNAME:PMK Kleve
X-ORIGINAL-URL:https://pmk-kleve.de
X-WR-CALDESC:Veranstaltungen für PMK Kleve
BEGIN:VEVENT
DTSTART;TZID=UTC+0:20220326T120000
DTEND;TZID=UTC+0:20220326T170000
DTSTAMP:20260425T114708
CREATED:20190402T072814Z
LAST-MODIFIED:20220325T120011Z
UID:569-1648296000-1648314000@pmk-kleve.de
SUMMARY:Przygotowywanie palm na niedzielę palmową
DESCRIPTION:W sobotę 26 marca od godz. 12.00 do godz. 17.00 w dużej salce parafialnej przy kościele Św. Aldegundy w Emmerich dzieci i młodzież z naszej parafii spotykają się na przygotowywanie palm na niedzielę palmową.  \nWykonane palmy będą sprzedawane w kościołach 03 i 10 kwietnia. \nZebrane pieniądze za sprzedaży przeznaczymy dla ukrańskich dzieci. \nZapraszamy do licznego udziału w tym wielkopostnym wydarzeniu\, poświęcając swój czas\, wykorzystując talenty i jednocząc się dla szczytnych celów. \n
URL:https://pmk-kleve.de/event/przygotowywane-palm-na-niedziele-palmowa
CATEGORIES:Wydarzenia na strone główną
END:VEVENT
END:VCALENDAR