BEGIN:VCALENDAR
VERSION:2.0
PRODID:-//PMK Kleve - ECPv4.7.1//NONSGML v1.0//EN
CALSCALE:GREGORIAN
METHOD:PUBLISH
X-WR-CALNAME:PMK Kleve
X-ORIGINAL-URL:https://pmk-kleve.de
X-WR-CALDESC:Veranstaltungen für PMK Kleve
BEGIN:VEVENT
DTSTART;TZID=UTC+0:20240317T093000
DTEND;TZID=UTC+0:20240323T200000
DTSTAMP:20260419T155402
CREATED:20240223T130137Z
LAST-MODIFIED:20240223T130137Z
UID:6353-1710667800-1711224000@pmk-kleve.de
SUMMARY:Rekolekcje parafialne
DESCRIPTION:
URL:https://pmk-kleve.de/event/rekolekcje-parafialne-3
CATEGORIES:Wydarzenia na strone główną
END:VEVENT
END:VCALENDAR