BEGIN:VCALENDAR
VERSION:2.0
PRODID:-//PMK Kleve - ECPv4.7.1//NONSGML v1.0//EN
CALSCALE:GREGORIAN
METHOD:PUBLISH
X-WR-CALNAME:PMK Kleve
X-ORIGINAL-URL:https://pmk-kleve.de
X-WR-CALDESC:Veranstaltungen für PMK Kleve
BEGIN:VEVENT
DTSTART;VALUE=DATE:20250407
DTEND;VALUE=DATE:20250408
DTSTAMP:20260423T102244
CREATED:20250320T113918Z
LAST-MODIFIED:20250320T113918Z
UID:7289-1743984000-1744070399@pmk-kleve.de
SUMMARY:Rekolekcje wielkopostne
DESCRIPTION:Druga nauka rekolekcyjna \nMsza św. w Kevelaer\, St. Antonius godz. 19.00 \n
URL:https://pmk-kleve.de/event/rekolekcje-wielkopostne-3
CATEGORIES:Wydarzenia na strone główną
END:VEVENT
END:VCALENDAR