BEGIN:VCALENDAR
VERSION:2.0
PRODID:-//PMK Kleve - ECPv4.7.1//NONSGML v1.0//EN
CALSCALE:GREGORIAN
METHOD:PUBLISH
X-WR-CALNAME:PMK Kleve
X-ORIGINAL-URL:https://pmk-kleve.de
X-WR-CALDESC:Veranstaltungen für PMK Kleve
BEGIN:VEVENT
DTSTART;VALUE=DATE:20250408
DTEND;VALUE=DATE:20250409
DTSTAMP:20260423T114922
CREATED:20250320T114013Z
LAST-MODIFIED:20250320T114013Z
UID:7291-1744070400-1744156799@pmk-kleve.de
SUMMARY:Rekolekcje wielkopostne
DESCRIPTION:Druga nauka rekolekcyjna \nMsza św. w Emmerich am Rhein\, St. Aldegundis godz. 19.00 \n
URL:https://pmk-kleve.de/event/rekolekcje-wielkopostne-4
CATEGORIES:Wydarzenia na strone główną
END:VEVENT
END:VCALENDAR