BEGIN:VCALENDAR
VERSION:2.0
PRODID:-//PMK Kleve - ECPv4.7.1//NONSGML v1.0//EN
CALSCALE:GREGORIAN
METHOD:PUBLISH
X-WR-CALNAME:PMK Kleve
X-ORIGINAL-URL:https://pmk-kleve.de
X-WR-CALDESC:Veranstaltungen für PMK Kleve
BEGIN:VEVENT
DTSTART;VALUE=DATE:20250409
DTEND;VALUE=DATE:20250410
DTSTAMP:20260423T114915
CREATED:20250320T114109Z
LAST-MODIFIED:20250320T114110Z
UID:7293-1744156800-1744243199@pmk-kleve.de
SUMMARY:Rekolekcje wielkopostne
DESCRIPTION:Druga nauka rekolekcyjna \nMsza św. w Kleve\, St. Mariä Empfängnis godz. 19.00 \n
URL:https://pmk-kleve.de/event/rekolekcje-wielkopostne-5
CATEGORIES:Wydarzenia na strone główną
END:VEVENT
END:VCALENDAR