BEGIN:VCALENDAR
VERSION:2.0
PRODID:-//PMK Kleve - ECPv4.7.1//NONSGML v1.0//EN
CALSCALE:GREGORIAN
METHOD:PUBLISH
X-WR-CALNAME:PMK Kleve
X-ORIGINAL-URL:https://pmk-kleve.de
X-WR-CALDESC:Veranstaltungen für PMK Kleve
BEGIN:VEVENT
DTSTART;VALUE=DATE:20250410
DTEND;VALUE=DATE:20250411
DTSTAMP:20260423T110918
CREATED:20250320T114251Z
LAST-MODIFIED:20250320T114308Z
UID:7297-1744243200-1744329599@pmk-kleve.de
SUMMARY:Rekolekcje wielkopostne
DESCRIPTION:Trzecia nauka rekolekcyjna \nMsza św. w Kevelaer\, Beichtkapelle godz. 19.30 \n
URL:https://pmk-kleve.de/event/rekolekcje-wielkopostne-7
CATEGORIES:Wydarzenia na strone główną
END:VEVENT
END:VCALENDAR