BEGIN:VCALENDAR
VERSION:2.0
PRODID:-//PMK Kleve - ECPv4.7.1//NONSGML v1.0//EN
CALSCALE:GREGORIAN
METHOD:PUBLISH
X-WR-CALNAME:PMK Kleve
X-ORIGINAL-URL:https://pmk-kleve.de
X-WR-CALDESC:Veranstaltungen für PMK Kleve
BEGIN:VEVENT
DTSTART;VALUE=DATE:20250411
DTEND;VALUE=DATE:20250412
DTSTAMP:20260423T094804
CREATED:20250320T114408Z
LAST-MODIFIED:20250320T114409Z
UID:7300-1744329600-1744415999@pmk-kleve.de
SUMMARY:Rekolekcje wielkopostne
DESCRIPTION:Trzecia nauka rekolekcyjna \nMsza św. w Emmerich am Rhein\, St. Aldegundis godz. 19.00 \n
URL:https://pmk-kleve.de/event/rekolekcje-wielkopostne-8
CATEGORIES:Wydarzenia na strone główną
END:VEVENT
END:VCALENDAR