BEGIN:VCALENDAR
VERSION:2.0
PRODID:-//PMK Kleve - ECPv4.7.1//NONSGML v1.0//EN
CALSCALE:GREGORIAN
METHOD:PUBLISH
X-WR-CALNAME:PMK Kleve
X-ORIGINAL-URL:https://pmk-kleve.de
X-WR-CALDESC:Veranstaltungen für PMK Kleve
BEGIN:VEVENT
DTSTART;VALUE=DATE:20221221
DTEND;VALUE=DATE:20221222
DTSTAMP:20260423T041326
CREATED:20221202T123851Z
LAST-MODIFIED:20221202T123851Z
UID:4823-1671580800-1671667199@pmk-kleve.de
SUMMARY:Roraty
DESCRIPTION:Msza św. o godz. 19.00 w kościele Chrystusa Króla w Kleve. \nZabierzmy ze sobą lampiony. \n
URL:https://pmk-kleve.de/event/roraty-14
CATEGORIES:Wydarzenia na strone główną
END:VEVENT
END:VCALENDAR